BEGIN:VCALENDAR
VERSION:2.0
PRODID:-//The Manual Therapy Institute - ECPv6.15.18//NONSGML v1.0//EN
CALSCALE:GREGORIAN
METHOD:PUBLISH
X-WR-CALNAME:The Manual Therapy Institute
X-ORIGINAL-URL:https://mtitx.com
X-WR-CALDESC:Events for The Manual Therapy Institute
REFRESH-INTERVAL;VALUE=DURATION:PT1H
X-Robots-Tag:noindex
X-PUBLISHED-TTL:PT1H
BEGIN:VTIMEZONE
TZID:UTC
BEGIN:STANDARD
TZOFFSETFROM:+0000
TZOFFSETTO:+0000
TZNAME:UTC
DTSTART:20200101T000000
END:STANDARD
END:VTIMEZONE
BEGIN:VEVENT
DTSTART;VALUE=DATE:20211113
DTEND;VALUE=DATE:20211115
DTSTAMP:20260421T022224
CREATED:20201005T014616Z
LAST-MODIFIED:20201005T014616Z
UID:16462-1636761600-1636934399@mtitx.com
SUMMARY:Advanced Cervical Spine I
DESCRIPTION:Instructors: Kroon/Kruchowsky
URL:https://mtitx.com/event/advanced-cervical-spine-i-10/
LOCATION:Concentra Hapeville\, 3580 Atlanta Avenue\, Hapeville\, GA\, 30354\, United States
CATEGORIES:Oakland 2020
GEO:33.6563575;-84.4112753
X-APPLE-STRUCTURED-LOCATION;VALUE=URI;X-ADDRESS=Concentra Hapeville 3580 Atlanta Avenue Hapeville GA 30354 United States;X-APPLE-RADIUS=500;X-TITLE=3580 Atlanta Avenue:geo:-84.4112753,33.6563575
END:VEVENT
BEGIN:VEVENT
DTSTART;VALUE=DATE:20211113
DTEND;VALUE=DATE:20211115
DTSTAMP:20260421T022224
CREATED:20201007T165820Z
LAST-MODIFIED:20201208T152538Z
UID:16522-1636761600-1636934399@mtitx.com
SUMMARY:Advanced Extremities II
DESCRIPTION:Instructors: Walker/Gutierrez
URL:https://mtitx.com/event/advanced-extremities-ii-18/
LOCATION:Elite Integrated Therapy Centers\, 1007 Grove Road\, Greenville\, SC\, 29605\, United States
CATEGORIES:Greenville 2018
GEO:34.812835;-82.418181
X-APPLE-STRUCTURED-LOCATION;VALUE=URI;X-ADDRESS=Elite Integrated Therapy Centers 1007 Grove Road Greenville SC 29605 United States;X-APPLE-RADIUS=500;X-TITLE=1007 Grove Road:geo:-82.418181,34.812835
END:VEVENT
BEGIN:VEVENT
DTSTART;VALUE=DATE:20211113
DTEND;VALUE=DATE:20211115
DTSTAMP:20260421T022224
CREATED:20201007T165921Z
LAST-MODIFIED:20201007T165921Z
UID:16524-1636761600-1636934399@mtitx.com
SUMMARY:Exams
DESCRIPTION:Instructors: Walker/Gutierrez
URL:https://mtitx.com/event/exams-14/
LOCATION:Elite Integrated Therapy Centers\, 1007 Grove Road\, Greenville\, SC\, 29605\, United States
CATEGORIES:Greenville 2018
GEO:34.812835;-82.418181
X-APPLE-STRUCTURED-LOCATION;VALUE=URI;X-ADDRESS=Elite Integrated Therapy Centers 1007 Grove Road Greenville SC 29605 United States;X-APPLE-RADIUS=500;X-TITLE=1007 Grove Road:geo:-82.418181,34.812835
END:VEVENT
BEGIN:VEVENT
DTSTART;VALUE=DATE:20211120
DTEND;VALUE=DATE:20211222
DTSTAMP:20260421T022224
CREATED:20201005T013610Z
LAST-MODIFIED:20201005T013610Z
UID:16450-1637366400-1640131199@mtitx.com
SUMMARY:Advanced Extremities II
DESCRIPTION:Instructors: Bray/Sudbrook
URL:https://mtitx.com/event/advanced-extremities-ii-15/
LOCATION:SC
CATEGORIES:Atlanta 2019
END:VEVENT
END:VCALENDAR