BEGIN:VCALENDAR
VERSION:2.0
PRODID:-//The Manual Therapy Institute - ECPv6.15.18//NONSGML v1.0//EN
CALSCALE:GREGORIAN
METHOD:PUBLISH
X-WR-CALNAME:The Manual Therapy Institute
X-ORIGINAL-URL:https://mtitx.com
X-WR-CALDESC:Events for The Manual Therapy Institute
REFRESH-INTERVAL;VALUE=DURATION:PT1H
X-Robots-Tag:noindex
X-PUBLISHED-TTL:PT1H
BEGIN:VTIMEZONE
TZID:UTC
BEGIN:STANDARD
TZOFFSETFROM:+0000
TZOFFSETTO:+0000
TZNAME:UTC
DTSTART:20200101T000000
END:STANDARD
END:VTIMEZONE
BEGIN:VEVENT
DTSTART;VALUE=DATE:20210731
DTEND;VALUE=DATE:20210802
DTSTAMP:20260420T203910
CREATED:20201005T012451Z
LAST-MODIFIED:20201005T012451Z
UID:16434-1627689600-1627862399@mtitx.com
SUMMARY:Advanced Lumbar Spine II
DESCRIPTION:Instructors: Kroon/Gwyn
URL:https://mtitx.com/event/advanced-lumbar-spine-ii-4/
LOCATION:US HealthWorks Pomona\, 801 Corporate Center Drive\, Ste 130\, Pomona\, CA\, 91768\, United States
CATEGORIES:Pomona 2019
GEO:34.0649636;-117.8017421
X-APPLE-STRUCTURED-LOCATION;VALUE=URI;X-ADDRESS=US HealthWorks Pomona 801 Corporate Center Drive Ste 130 Pomona CA 91768 United States;X-APPLE-RADIUS=500;X-TITLE=801 Corporate Center Drive\, Ste 130:geo:-117.8017421,34.0649636
END:VEVENT
BEGIN:VEVENT
DTSTART;VALUE=DATE:20210821
DTEND;VALUE=DATE:20210823
DTSTAMP:20260420T203910
CREATED:20201005T015221Z
LAST-MODIFIED:20201005T015221Z
UID:16471-1629504000-1629676799@mtitx.com
SUMMARY:Advanced Extremities II
DESCRIPTION:Instructors: Kroon/Kruchowsky
URL:https://mtitx.com/event/advanced-extremities-ii-16/
LOCATION:Rosalind Franklin University of Medicine and Science\, Department of Physical Therapy\, 3333 Green Bay Road\, North Chicago\, IL\, 60064\, United States
CATEGORIES:Chicago 2019
GEO:42.3001389;-87.8593878
X-APPLE-STRUCTURED-LOCATION;VALUE=URI;X-ADDRESS=Rosalind Franklin University of Medicine and Science Department of Physical Therapy 3333 Green Bay Road North Chicago IL 60064 United States;X-APPLE-RADIUS=500;X-TITLE=3333 Green Bay Road:geo:-87.8593878,42.3001389
END:VEVENT
BEGIN:VEVENT
DTSTART;VALUE=DATE:20210828
DTEND;VALUE=DATE:20210830
DTSTAMP:20260420T203910
CREATED:20201006T183907Z
LAST-MODIFIED:20201006T183907Z
UID:16496-1630108800-1630281599@mtitx.com
SUMMARY:Advanced Extremities I
DESCRIPTION:Instructors: Kroon/Kruchowsky
URL:https://mtitx.com/event/advanced-extremities-i-12/
LOCATION:Texas State University\, Department of Physical Therapy\, Round Rock Campus\, 200 Bobcat Way\, Willow Hall\, room 330\, Round Rock\, TX\, 78665
CATEGORIES:Round Rock 2019
END:VEVENT
END:VCALENDAR