BEGIN:VCALENDAR
VERSION:2.0
PRODID:-//The Manual Therapy Institute - ECPv6.15.18//NONSGML v1.0//EN
CALSCALE:GREGORIAN
METHOD:PUBLISH
X-ORIGINAL-URL:https://mtitx.com
X-WR-CALDESC:Events for The Manual Therapy Institute
REFRESH-INTERVAL;VALUE=DURATION:PT1H
X-Robots-Tag:noindex
X-PUBLISHED-TTL:PT1H
BEGIN:VTIMEZONE
TZID:UTC
BEGIN:STANDARD
TZOFFSETFROM:+0000
TZOFFSETTO:+0000
TZNAME:UTC
DTSTART:20200101T000000
END:STANDARD
END:VTIMEZONE
BEGIN:VEVENT
DTSTART;VALUE=DATE:20210612
DTEND;VALUE=DATE:20210614
DTSTAMP:20260420T130556
CREATED:20201005T012332Z
LAST-MODIFIED:20201010T010425Z
UID:16432-1623456000-1623628799@mtitx.com
SUMMARY:Advanced Lumbar Spine I
DESCRIPTION:Instructors: Zeigler/Okamoto
URL:https://mtitx.com/event/advanced-lumbar-spine-i-9/
LOCATION:SC
CATEGORIES:Pomona 2019
END:VEVENT
BEGIN:VEVENT
DTSTART;VALUE=DATE:20210612
DTEND;VALUE=DATE:20210614
DTSTAMP:20260420T130556
CREATED:20201005T015039Z
LAST-MODIFIED:20201005T015039Z
UID:16469-1623456000-1623628799@mtitx.com
SUMMARY:Advanced Extremities I
DESCRIPTION:Instructors: Kroon/Krchowsky
URL:https://mtitx.com/event/advanced-extremities-i-11/
LOCATION:Rosalind Franklin University of Medicine and Science\, Department of Physical Therapy\, 3333 Green Bay Road\, North Chicago\, IL\, 60064\, United States
CATEGORIES:Chicago 2019
GEO:42.3001389;-87.8593878
X-APPLE-STRUCTURED-LOCATION;VALUE=URI;X-ADDRESS=Rosalind Franklin University of Medicine and Science Department of Physical Therapy 3333 Green Bay Road North Chicago IL 60064 United States;X-APPLE-RADIUS=500;X-TITLE=3333 Green Bay Road:geo:-87.8593878,42.3001389
END:VEVENT
BEGIN:VEVENT
DTSTART;VALUE=DATE:20210619
DTEND;VALUE=DATE:20210621
DTSTAMP:20260420T130556
CREATED:20201006T183742Z
LAST-MODIFIED:20201006T183742Z
UID:16494-1624060800-1624233599@mtitx.com
SUMMARY:Advanced Lumbar Spine II/Advanced Thoracic Spine
DESCRIPTION:Instructors: Winward/Bray
URL:https://mtitx.com/event/advanced-lumbar-spine-ii-advanced-thoracic-spine-5/
LOCATION:Texas State University\, Department of Physical Therapy\, Round Rock Campus\, 200 Bobcat Way\, Willow Hall\, room 330\, Round Rock\, TX\, 78665
CATEGORIES:Round Rock 2019
END:VEVENT
BEGIN:VEVENT
DTSTART;VALUE=DATE:20210626
DTEND;VALUE=DATE:20210628
DTSTAMP:20260420T130556
CREATED:20201007T170141Z
LAST-MODIFIED:20201007T170141Z
UID:16526-1624665600-1624838399@mtitx.com
SUMMARY:The Shoulder. Theory and Practice
DESCRIPTION:Instructor: Jeremy Lewis PhD\, FCSP
URL:https://mtitx.com/event/the-shoulder-theory-and-practice-2/
LOCATION:Texas State University\, Department of Physical Therapy\, Round Rock Campus\, 200 Bobcat Way\, Willow Hall\, room 330\, Round Rock\, TX\, 78665
CATEGORIES:Continuing Education Series
END:VEVENT
END:VCALENDAR