BEGIN:VCALENDAR
VERSION:2.0
PRODID:-//The Manual Therapy Institute - ECPv6.15.18//NONSGML v1.0//EN
CALSCALE:GREGORIAN
METHOD:PUBLISH
X-ORIGINAL-URL:https://mtitx.com
X-WR-CALDESC:Events for The Manual Therapy Institute
REFRESH-INTERVAL;VALUE=DURATION:PT1H
X-Robots-Tag:noindex
X-PUBLISHED-TTL:PT1H
BEGIN:VTIMEZONE
TZID:UTC
BEGIN:STANDARD
TZOFFSETFROM:+0000
TZOFFSETTO:+0000
TZNAME:UTC
DTSTART:20200101T000000
END:STANDARD
END:VTIMEZONE
BEGIN:VEVENT
DTSTART;VALUE=DATE:20210515
DTEND;VALUE=DATE:20210517
DTSTAMP:20260420T112106
CREATED:20201005T014219Z
LAST-MODIFIED:20201005T014219Z
UID:16456-1621036800-1621209599@mtitx.com
SUMMARY:Intro Thoracic Spine/Integrated Treatment Concepts
DESCRIPTION:Instructors: Zeigler/Mallers
URL:https://mtitx.com/event/intro-thoracic-spine-integrated-treatment-concepts-2/
LOCATION:Concentra Hapeville\, 3580 Atlanta Avenue\, Hapeville\, GA\, 30354\, United States
CATEGORIES:Oakland 2020
GEO:33.6563575;-84.4112753
X-APPLE-STRUCTURED-LOCATION;VALUE=URI;X-ADDRESS=Concentra Hapeville 3580 Atlanta Avenue Hapeville GA 30354 United States;X-APPLE-RADIUS=500;X-TITLE=3580 Atlanta Avenue:geo:-84.4112753,33.6563575
END:VEVENT
BEGIN:VEVENT
DTSTART;VALUE=DATE:20210515
DTEND;VALUE=DATE:20210517
DTSTAMP:20260420T112106
CREATED:20201007T164815Z
LAST-MODIFIED:20201007T164815Z
UID:16506-1621036800-1621209599@mtitx.com
SUMMARY:Advanced Cervical Spine II
DESCRIPTION:Instructors: Kroon/Gwyn
URL:https://mtitx.com/event/advanced-cervical-spine-ii-20/
LOCATION:C. Foster and Associates\, 125 W. Parkwood Avenue\, Friendswood\, 77546\, United States
CATEGORIES:Houston 2019
GEO:29.5075977;-95.1884656
X-APPLE-STRUCTURED-LOCATION;VALUE=URI;X-ADDRESS=C. Foster and Associates 125 W. Parkwood Avenue Friendswood 77546 United States;X-APPLE-RADIUS=500;X-TITLE=125 W. Parkwood Avenue:geo:-95.1884656,29.5075977
END:VEVENT
BEGIN:VEVENT
DTSTART;VALUE=DATE:20210515
DTEND;VALUE=DATE:20210517
DTSTAMP:20260420T112106
CREATED:20201007T165458Z
LAST-MODIFIED:20201208T152011Z
UID:16516-1621036800-1621209599@mtitx.com
SUMMARY:Advanced Lumbar Spine I
DESCRIPTION:Instructors: Walker/Bray
URL:https://mtitx.com/event/advanced-lumbar-spine-i-14/
LOCATION:Elite Integrated Therapy Centers\, 1007 Grove Road\, Greenville\, SC\, 29605\, United States
CATEGORIES:Greenville 2018
GEO:34.812835;-82.418181
X-APPLE-STRUCTURED-LOCATION;VALUE=URI;X-ADDRESS=Elite Integrated Therapy Centers 1007 Grove Road Greenville SC 29605 United States;X-APPLE-RADIUS=500;X-TITLE=1007 Grove Road:geo:-82.418181,34.812835
END:VEVENT
BEGIN:VEVENT
DTSTART;VALUE=DATE:20210515
DTEND;VALUE=DATE:20210517
DTSTAMP:20260420T112106
CREATED:20201007T165611Z
LAST-MODIFIED:20201007T165611Z
UID:16518-1621036800-1621209599@mtitx.com
SUMMARY:Advanced L Spine III/Advanced Thoracic Spine
DESCRIPTION:Instructors: Walker/Bray
URL:https://mtitx.com/event/advanced-l-spine-iii-advanced-thoracic-spine/
LOCATION:Elite Integrated Therapy Centers\, 1007 Grove Road\, Greenville\, SC\, 29605\, United States
CATEGORIES:Greenville 2018
GEO:34.812835;-82.418181
X-APPLE-STRUCTURED-LOCATION;VALUE=URI;X-ADDRESS=Elite Integrated Therapy Centers 1007 Grove Road Greenville SC 29605 United States;X-APPLE-RADIUS=500;X-TITLE=1007 Grove Road:geo:-82.418181,34.812835
END:VEVENT
BEGIN:VEVENT
DTSTART;VALUE=DATE:20210522
DTEND;VALUE=DATE:20210524
DTSTAMP:20260420T112106
CREATED:20201005T013220Z
LAST-MODIFIED:20201005T013220Z
UID:16444-1621641600-1621814399@mtitx.com
SUMMARY:Advanced Lumbar Spine I
DESCRIPTION:Instructors: Fancher/Bray
URL:https://mtitx.com/event/advanced-lumbar-spine-i-10/
LOCATION:Concentra Hapeville\, 3580 Atlanta Avenue\, Hapeville\, GA\, 30354\, United States
CATEGORIES:Atlanta 2019
GEO:33.6563575;-84.4112753
X-APPLE-STRUCTURED-LOCATION;VALUE=URI;X-ADDRESS=Concentra Hapeville 3580 Atlanta Avenue Hapeville GA 30354 United States;X-APPLE-RADIUS=500;X-TITLE=3580 Atlanta Avenue:geo:-84.4112753,33.6563575
END:VEVENT
BEGIN:VEVENT
DTSTART;VALUE=DATE:20210522
DTEND;VALUE=DATE:20210524
DTSTAMP:20260420T112106
CREATED:20201005T015936Z
LAST-MODIFIED:20201005T015936Z
UID:16479-1621641600-1621814399@mtitx.com
SUMMARY:Tissue Specific Exercise/Mid Term Written Exams
DESCRIPTION:Instructors: Kroon/Gwyn
URL:https://mtitx.com/event/tissue-specific-exercise-mid-term-written-exams/
LOCATION:Texas State University\, Department of Physical Therapy\, Round Rock Campus\, 200 Bobcat Way\, Willow Hall\, room 330\, Round Rock\, TX\, 78665
CATEGORIES:Round Rock 2020
END:VEVENT
END:VCALENDAR