BEGIN:VCALENDAR
VERSION:2.0
PRODID:-//The Manual Therapy Institute - ECPv6.15.18//NONSGML v1.0//EN
CALSCALE:GREGORIAN
METHOD:PUBLISH
X-WR-CALNAME:The Manual Therapy Institute
X-ORIGINAL-URL:https://mtitx.com
X-WR-CALDESC:Events for The Manual Therapy Institute
REFRESH-INTERVAL;VALUE=DURATION:PT1H
X-Robots-Tag:noindex
X-PUBLISHED-TTL:PT1H
BEGIN:VTIMEZONE
TZID:UTC
BEGIN:STANDARD
TZOFFSETFROM:+0000
TZOFFSETTO:+0000
TZNAME:UTC
DTSTART:20200101T000000
END:STANDARD
END:VTIMEZONE
BEGIN:VEVENT
DTSTART;VALUE=DATE:20210306
DTEND;VALUE=DATE:20210308
DTSTAMP:20260420T075459
CREATED:20201005T014049Z
LAST-MODIFIED:20201005T014049Z
UID:16454-1614988800-1615161599@mtitx.com
SUMMARY:Intro Extremities II
DESCRIPTION:Instructors: Zeigler/Mallers
URL:https://mtitx.com/event/intro-extremities-ii-14/
LOCATION:Concentra Hapeville\, 3580 Atlanta Avenue\, Hapeville\, GA\, 30354\, United States
CATEGORIES:Oakland 2020
GEO:33.6563575;-84.4112753
X-APPLE-STRUCTURED-LOCATION;VALUE=URI;X-ADDRESS=Concentra Hapeville 3580 Atlanta Avenue Hapeville GA 30354 United States;X-APPLE-RADIUS=500;X-TITLE=3580 Atlanta Avenue:geo:-84.4112753,33.6563575
END:VEVENT
BEGIN:VEVENT
DTSTART;VALUE=DATE:20210306
DTEND;VALUE=DATE:20210308
DTSTAMP:20260420T075459
CREATED:20201007T164659Z
LAST-MODIFIED:20201007T164659Z
UID:16504-1614988800-1615161599@mtitx.com
SUMMARY:Advanced Cervical Spine I
DESCRIPTION:Instructors Kroon/Gwyn
URL:https://mtitx.com/event/advanced-cervical-spine-i-12/
LOCATION:C. Foster and Associates\, 125 W. Parkwood Avenue\, Friendswood\, 77546\, United States
CATEGORIES:Houston 2019
GEO:29.5075977;-95.1884656
X-APPLE-STRUCTURED-LOCATION;VALUE=URI;X-ADDRESS=C. Foster and Associates 125 W. Parkwood Avenue Friendswood 77546 United States;X-APPLE-RADIUS=500;X-TITLE=125 W. Parkwood Avenue:geo:-95.1884656,29.5075977
END:VEVENT
BEGIN:VEVENT
DTSTART;VALUE=DATE:20210313
DTEND;VALUE=DATE:20210315
DTSTAMP:20260420T075459
CREATED:20201005T015741Z
LAST-MODIFIED:20201010T010812Z
UID:16477-1615593600-1615766399@mtitx.com
SUMMARY:Intro Thoracic Spine/Integrated Treatment Concepts
DESCRIPTION:Instructors: Bray/Sudbrook
URL:https://mtitx.com/event/intro-thoracic-spine-integrated-treatment-concepts-3/
LOCATION:Texas State University\, Department of Physical Therapy\, Round Rock Campus\, 200 Bobcat Way\, Willow Hall\, room 330\, Round Rock\, TX\, 78665
CATEGORIES:Round Rock 2020
END:VEVENT
BEGIN:VEVENT
DTSTART;VALUE=DATE:20210320
DTEND;VALUE=DATE:20210322
DTSTAMP:20260420T075459
CREATED:20201005T013048Z
LAST-MODIFIED:20201005T013048Z
UID:16442-1616198400-1616371199@mtitx.com
SUMMARY:Advanced Cervical Spine II
DESCRIPTION:Instructors: Fancher/Bray
URL:https://mtitx.com/event/advanced-cervical-spine-ii-16/
LOCATION:Concentra Hapeville\, 3580 Atlanta Avenue\, Hapeville\, GA\, 30354\, United States
CATEGORIES:Atlanta 2019
GEO:33.6563575;-84.4112753
X-APPLE-STRUCTURED-LOCATION;VALUE=URI;X-ADDRESS=Concentra Hapeville 3580 Atlanta Avenue Hapeville GA 30354 United States;X-APPLE-RADIUS=500;X-TITLE=3580 Atlanta Avenue:geo:-84.4112753,33.6563575
END:VEVENT
END:VCALENDAR