BEGIN:VCALENDAR
VERSION:2.0
PRODID:-//The Manual Therapy Institute - ECPv6.15.18//NONSGML v1.0//EN
CALSCALE:GREGORIAN
METHOD:PUBLISH
X-ORIGINAL-URL:https://mtitx.com
X-WR-CALDESC:Events for The Manual Therapy Institute
REFRESH-INTERVAL;VALUE=DURATION:PT1H
X-Robots-Tag:noindex
X-PUBLISHED-TTL:PT1H
BEGIN:VTIMEZONE
TZID:UTC
BEGIN:STANDARD
TZOFFSETFROM:+0000
TZOFFSETTO:+0000
TZNAME:UTC
DTSTART:20190101T000000
END:STANDARD
END:VTIMEZONE
BEGIN:VEVENT
DTSTART;VALUE=DATE:20201205
DTEND;VALUE=DATE:20201207
DTSTAMP:20260420T023120
CREATED:20190707T205425Z
LAST-MODIFIED:20190707T205425Z
UID:12075-1607126400-1607299199@mtitx.com
SUMMARY:Advanced Extremities II
DESCRIPTION:Instructor: Sudbrook
URL:https://mtitx.com/event/advanced-extremities-ii-10/
LOCATION:C. Foster and Associates\, 125 W. Parkwood Avenue\, Friendswood\, 77546\, United States
CATEGORIES:Houston 2018
GEO:29.5075977;-95.1884656
X-APPLE-STRUCTURED-LOCATION;VALUE=URI;X-ADDRESS=C. Foster and Associates 125 W. Parkwood Avenue Friendswood 77546 United States;X-APPLE-RADIUS=500;X-TITLE=125 W. Parkwood Avenue:geo:-95.1884656,29.5075977
END:VEVENT
BEGIN:VEVENT
DTSTART;VALUE=DATE:20201212
DTEND;VALUE=DATE:20201214
DTSTAMP:20260420T023120
CREATED:20190708T183358Z
LAST-MODIFIED:20200817T004512Z
UID:12166-1607731200-1607903999@mtitx.com
SUMMARY:Joint Manipulations/Adverse Neural Tension
DESCRIPTION:Instructors: Kroon/Kruchowsky
URL:https://mtitx.com/event/joint-manipulations-adverse-neural-tension-6/
LOCATION:SC
CATEGORIES:Atlanta 2019
END:VEVENT
BEGIN:VEVENT
DTSTART;VALUE=DATE:20201212
DTEND;VALUE=DATE:20201214
DTSTAMP:20260420T023120
CREATED:20200603T162623Z
LAST-MODIFIED:20200817T004328Z
UID:15074-1607731200-1607903999@mtitx.com
SUMMARY:Joint Manipulations/ANT
DESCRIPTION:Instructors: Kroon/Kruchowsky
URL:https://mtitx.com/event/joint-manipulations-ant/
LOCATION:US HealthWorks Pomona\, 801 Corporate Center Drive\, Ste 130\, Pomona\, CA\, 91768\, United States
CATEGORIES:Pomona 2019
GEO:34.0649636;-117.8017421
X-APPLE-STRUCTURED-LOCATION;VALUE=URI;X-ADDRESS=US HealthWorks Pomona 801 Corporate Center Drive Ste 130 Pomona CA 91768 United States;X-APPLE-RADIUS=500;X-TITLE=801 Corporate Center Drive\, Ste 130:geo:-117.8017421,34.0649636
END:VEVENT
END:VCALENDAR