BEGIN:VCALENDAR
VERSION:2.0
PRODID:-//The Manual Therapy Institute - ECPv6.15.18//NONSGML v1.0//EN
CALSCALE:GREGORIAN
METHOD:PUBLISH
X-WR-CALNAME:The Manual Therapy Institute
X-ORIGINAL-URL:https://mtitx.com
X-WR-CALDESC:Events for The Manual Therapy Institute
REFRESH-INTERVAL;VALUE=DURATION:PT1H
X-Robots-Tag:noindex
X-PUBLISHED-TTL:PT1H
BEGIN:VTIMEZONE
TZID:UTC
BEGIN:STANDARD
TZOFFSETFROM:+0000
TZOFFSETTO:+0000
TZNAME:UTC
DTSTART:20190101T000000
END:STANDARD
END:VTIMEZONE
BEGIN:VEVENT
DTSTART;VALUE=DATE:20201031
DTEND;VALUE=DATE:20201102
DTSTAMP:20260420T003931
CREATED:20190707T211431Z
LAST-MODIFIED:20190707T211431Z
UID:12097-1604102400-1604275199@mtitx.com
SUMMARY:Tissue Specific Exercise/Mid Term Exam
DESCRIPTION:Instructor: Kroon \nThe mid term written exam will be administered on 10/31 at 8AM
URL:https://mtitx.com/event/tissue-specific-exercise-mid-term-exam/
LOCATION:C. Foster and Associates\, 125 W. Parkwood Avenue\, Friendswood\, 77546\, United States
CATEGORIES:Houston 2019
GEO:29.5075977;-95.1884656
X-APPLE-STRUCTURED-LOCATION;VALUE=URI;X-ADDRESS=C. Foster and Associates 125 W. Parkwood Avenue Friendswood 77546 United States;X-APPLE-RADIUS=500;X-TITLE=125 W. Parkwood Avenue:geo:-95.1884656,29.5075977
END:VEVENT
BEGIN:VEVENT
DTSTART;VALUE=DATE:20201114
DTEND;VALUE=DATE:20201116
DTSTAMP:20260420T003931
CREATED:20190707T233217Z
LAST-MODIFIED:20190707T233217Z
UID:12129-1605312000-1605484799@mtitx.com
SUMMARY:INtro Cervical Spine II/Extremities I
DESCRIPTION:Instructors: Kroon/Kruchowsky
URL:https://mtitx.com/event/intro-cervical-spine-ii-extremities-i-8/
LOCATION:Texas State University\, Department of Physical Therapy\, Round Rock Campus\, 200 Bobcat Way\, Willow Hall\, room 330\, Round Rock\, TX\, 78665
CATEGORIES:Round Rock 2020
END:VEVENT
BEGIN:VEVENT
DTSTART;VALUE=DATE:20201114
DTEND;VALUE=DATE:20201116
DTSTAMP:20260420T003931
CREATED:20190708T184940Z
LAST-MODIFIED:20190708T184940Z
UID:12182-1605312000-1605484799@mtitx.com
SUMMARY:Advanced Cervical Spine II
DESCRIPTION:Instructors: Hosaka/Okamoto
URL:https://mtitx.com/event/advanced-cervical-spine-ii-17/
LOCATION:US HealthWorks Pomona\, 801 Corporate Center Drive\, Ste 130\, Pomona\, CA\, 91768\, United States
CATEGORIES:Pomona 2019
GEO:34.0649636;-117.8017421
X-APPLE-STRUCTURED-LOCATION;VALUE=URI;X-ADDRESS=US HealthWorks Pomona 801 Corporate Center Drive Ste 130 Pomona CA 91768 United States;X-APPLE-RADIUS=500;X-TITLE=801 Corporate Center Drive\, Ste 130:geo:-117.8017421,34.0649636
END:VEVENT
BEGIN:VEVENT
DTSTART;VALUE=DATE:20201121
DTEND;VALUE=DATE:20201123
DTSTAMP:20260420T003931
CREATED:20190707T232107Z
LAST-MODIFIED:20190715T203357Z
UID:12117-1605916800-1606089599@mtitx.com
SUMMARY:Advanced Cervical Spine I
DESCRIPTION:Instructors: Kroon/Kruchowsky
URL:https://mtitx.com/event/advanced-lumbar-spine-i-8/
LOCATION:Texas State University\, Department of Physical Therapy\, Round Rock Campus\, 200 Bobcat Way\, Willow Hall\, room 330\, Round Rock\, TX\, 78665
CATEGORIES:Round Rock 2019
END:VEVENT
BEGIN:VEVENT
DTSTART;VALUE=DATE:20201121
DTEND;VALUE=DATE:20201123
DTSTAMP:20260420T003931
CREATED:20191115T233254Z
LAST-MODIFIED:20200817T003713Z
UID:13429-1605916800-1606089599@mtitx.com
SUMMARY:Intro Cervical Spine I
DESCRIPTION:Instructors: Zeigler/Vargo
URL:https://mtitx.com/event/intro-cervical-spine-i-9/
LOCATION:Concentra Oakland\, 384 Embarcadero West\, Oakland\, CA\, 94607\, United States
CATEGORIES:Oakland 2020
END:VEVENT
END:VCALENDAR