BEGIN:VCALENDAR
VERSION:2.0
PRODID:-//The Manual Therapy Institute - ECPv6.15.18//NONSGML v1.0//EN
CALSCALE:GREGORIAN
METHOD:PUBLISH
X-ORIGINAL-URL:https://mtitx.com
X-WR-CALDESC:Events for The Manual Therapy Institute
REFRESH-INTERVAL;VALUE=DURATION:PT1H
X-Robots-Tag:noindex
X-PUBLISHED-TTL:PT1H
BEGIN:VTIMEZONE
TZID:UTC
BEGIN:STANDARD
TZOFFSETFROM:+0000
TZOFFSETTO:+0000
TZNAME:UTC
DTSTART:20190101T000000
END:STANDARD
END:VTIMEZONE
BEGIN:VEVENT
DTSTART;VALUE=DATE:20200711
DTEND;VALUE=DATE:20200713
DTSTAMP:20260419T171839
CREATED:20190707T204947Z
LAST-MODIFIED:20200602T150454Z
UID:12069-1594425600-1594598399@mtitx.com
SUMMARY:Advanced Lumbar Spine I
DESCRIPTION:Instructor: Sudbrook
URL:https://mtitx.com/event/advanced-lumbar-spine-i-7/
LOCATION:C. Foster and Associates\, 125 W. Parkwood Avenue\, Friendswood\, 77546\, United States
CATEGORIES:Houston 2018
GEO:29.5075977;-95.1884656
X-APPLE-STRUCTURED-LOCATION;VALUE=URI;X-ADDRESS=C. Foster and Associates 125 W. Parkwood Avenue Friendswood 77546 United States;X-APPLE-RADIUS=500;X-TITLE=125 W. Parkwood Avenue:geo:-95.1884656,29.5075977
END:VEVENT
BEGIN:VEVENT
DTSTART;VALUE=DATE:20200711
DTEND;VALUE=DATE:20200713
DTSTAMP:20260419T171839
CREATED:20190707T211139Z
LAST-MODIFIED:20190707T211139Z
UID:12093-1594425600-1594598399@mtitx.com
SUMMARY:Intro Extremities II
DESCRIPTION:Instructor: Kroon
URL:https://mtitx.com/event/intro-extremities-ii-10/
LOCATION:C. Foster and Associates\, 125 W. Parkwood Avenue\, Friendswood\, 77546\, United States
CATEGORIES:Houston 2019
GEO:29.5075977;-95.1884656
X-APPLE-STRUCTURED-LOCATION;VALUE=URI;X-ADDRESS=C. Foster and Associates 125 W. Parkwood Avenue Friendswood 77546 United States;X-APPLE-RADIUS=500;X-TITLE=125 W. Parkwood Avenue:geo:-95.1884656,29.5075977
END:VEVENT
BEGIN:VEVENT
DTSTART;VALUE=DATE:20200711
DTEND;VALUE=DATE:20200713
DTSTAMP:20260419T171839
CREATED:20190709T131739Z
LAST-MODIFIED:20200602T150743Z
UID:12229-1594425600-1594598399@mtitx.com
SUMMARY:Joint Manipulations/Adverse Neural Tension
DESCRIPTION:Instructor: Walker/Gutierrez
URL:https://mtitx.com/event/joint-manipulations-adverse-neural-tension-7/
LOCATION:Elite Integrated Therapy Centers\, 1007 Grove Road\, Greenville\, SC\, 29605\, United States
CATEGORIES:Greenville 2018
GEO:34.812835;-82.418181
X-APPLE-STRUCTURED-LOCATION;VALUE=URI;X-ADDRESS=Elite Integrated Therapy Centers 1007 Grove Road Greenville SC 29605 United States;X-APPLE-RADIUS=500;X-TITLE=1007 Grove Road:geo:-82.418181,34.812835
END:VEVENT
BEGIN:VEVENT
DTSTART;VALUE=DATE:20200711
DTEND;VALUE=DATE:20200713
DTSTAMP:20260419T171839
CREATED:20191115T233013Z
LAST-MODIFIED:20200603T162733Z
UID:13425-1594425600-1594598399@mtitx.com
SUMMARY:Intro Lumbar Spine I
DESCRIPTION:Instructors: Zeigler/Okamoto
URL:https://mtitx.com/event/intro-lumbar-spine-i-9/
LOCATION:Concentra Oakland\, 384 Embarcadero West\, Oakland\, CA\, 94607\, United States
CATEGORIES:Oakland 2020
END:VEVENT
BEGIN:VEVENT
DTSTART;VALUE=DATE:20200718
DTEND;VALUE=DATE:20200720
DTSTAMP:20260419T171839
CREATED:20190707T231842Z
LAST-MODIFIED:20190715T203044Z
UID:12113-1595030400-1595203199@mtitx.com
SUMMARY:Tissue Specific Exercise/Mid Term Written Exams
DESCRIPTION:Instructors:Kroon/Kruchowsky
URL:https://mtitx.com/event/advanced-cervical-spine-i-5/
LOCATION:Texas State University\, Department of Physical Therapy\, Round Rock Campus\, 200 Bobcat Way\, Willow Hall\, room 330\, Round Rock\, TX\, 78665
CATEGORIES:Round Rock 2019
END:VEVENT
BEGIN:VEVENT
DTSTART;VALUE=DATE:20200718
DTEND;VALUE=DATE:20200720
DTSTAMP:20260419T171839
CREATED:20190708T152435Z
LAST-MODIFIED:20200602T153138Z
UID:12142-1595030400-1595203199@mtitx.com
SUMMARY:Advanced Extremities I
DESCRIPTION:Instructors: Bray/Winward
URL:https://mtitx.com/event/advanced-extremities-i-8/
LOCATION:Concentra Windsor-Hartford\, 1080 Day Hill Road\, Windsor\, CT\, 06095\, United States
CATEGORIES:Windsor 2017
GEO:41.8801655;-72.7053774
X-APPLE-STRUCTURED-LOCATION;VALUE=URI;X-ADDRESS=Concentra Windsor-Hartford 1080 Day Hill Road Windsor CT 06095 United States;X-APPLE-RADIUS=500;X-TITLE=1080 Day Hill Road:geo:-72.7053774,41.8801655
END:VEVENT
BEGIN:VEVENT
DTSTART;VALUE=DATE:20200718
DTEND;VALUE=DATE:20200720
DTSTAMP:20260419T171839
CREATED:20190708T183100Z
LAST-MODIFIED:20200602T153438Z
UID:12162-1595030400-1595203199@mtitx.com
SUMMARY:Intro Thoracic Spine
DESCRIPTION:Instructors: Fancher/Vargo
URL:https://mtitx.com/event/intro-thoracic-spine-12/
LOCATION:Concentra Hapeville\, 3580 Atlanta Avenue\, Hapeville\, GA\, 30354\, United States
CATEGORIES:Atlanta 2019
GEO:33.6563575;-84.4112753
X-APPLE-STRUCTURED-LOCATION;VALUE=URI;X-ADDRESS=Concentra Hapeville 3580 Atlanta Avenue Hapeville GA 30354 United States;X-APPLE-RADIUS=500;X-TITLE=3580 Atlanta Avenue:geo:-84.4112753,33.6563575
END:VEVENT
BEGIN:VEVENT
DTSTART;VALUE=DATE:20200718
DTEND;VALUE=DATE:20200720
DTSTAMP:20260419T171839
CREATED:20190708T183911Z
LAST-MODIFIED:20200602T184032Z
UID:12174-1595030400-1595203199@mtitx.com
SUMMARY:Intro Thoracic Spine
DESCRIPTION:Instructors: Zeigler/Okamoto
URL:https://mtitx.com/event/intro-thoracic-spine-13/
LOCATION:US HealthWorks Pomona\, 801 Corporate Center Drive\, Ste 130\, Pomona\, CA\, 91768\, United States
CATEGORIES:Pomona 2019
GEO:34.0649636;-117.8017421
X-APPLE-STRUCTURED-LOCATION;VALUE=URI;X-ADDRESS=US HealthWorks Pomona 801 Corporate Center Drive Ste 130 Pomona CA 91768 United States;X-APPLE-RADIUS=500;X-TITLE=801 Corporate Center Drive\, Ste 130:geo:-117.8017421,34.0649636
END:VEVENT
BEGIN:VEVENT
DTSTART;VALUE=DATE:20200718
DTEND;VALUE=DATE:20200720
DTSTAMP:20260419T171839
CREATED:20190708T184735Z
LAST-MODIFIED:20190708T184735Z
UID:12178-1595030400-1595203199@mtitx.com
SUMMARY:Joint Manipulation/Adverse Neural Tension
DESCRIPTION:Instructors: Hosaka/Okamoto
URL:https://mtitx.com/event/joint-manipulation-adverse-neural-tension-2/
LOCATION:US HealthWorks Pomona\, 801 Corporate Center Drive\, Ste 130\, Pomona\, CA\, 91768\, United States
CATEGORIES:Pomona 2019
GEO:34.0649636;-117.8017421
X-APPLE-STRUCTURED-LOCATION;VALUE=URI;X-ADDRESS=US HealthWorks Pomona 801 Corporate Center Drive Ste 130 Pomona CA 91768 United States;X-APPLE-RADIUS=500;X-TITLE=801 Corporate Center Drive\, Ste 130:geo:-117.8017421,34.0649636
END:VEVENT
END:VCALENDAR