BEGIN:VCALENDAR
VERSION:2.0
PRODID:-//The Manual Therapy Institute - ECPv6.15.18//NONSGML v1.0//EN
CALSCALE:GREGORIAN
METHOD:PUBLISH
X-WR-CALNAME:The Manual Therapy Institute
X-ORIGINAL-URL:https://mtitx.com
X-WR-CALDESC:Events for The Manual Therapy Institute
REFRESH-INTERVAL;VALUE=DURATION:PT1H
X-Robots-Tag:noindex
X-PUBLISHED-TTL:PT1H
BEGIN:VTIMEZONE
TZID:UTC
BEGIN:STANDARD
TZOFFSETFROM:+0000
TZOFFSETTO:+0000
TZNAME:UTC
DTSTART:20190101T000000
END:STANDARD
END:VTIMEZONE
BEGIN:VEVENT
DTSTART;VALUE=DATE:20200613
DTEND;VALUE=DATE:20200614
DTSTAMP:20260419T151353
CREATED:20190707T212300Z
LAST-MODIFIED:20190707T212300Z
UID:12103-1592006400-1592092799@mtitx.com
SUMMARY:Exams
DESCRIPTION:Examiners: Kroon/Kruchowsky
URL:https://mtitx.com/event/exams-10/
LOCATION:Texas State University\, Department of Physical Therapy\, Round Rock Campus\, 200 Bobcat Way\, Willow Hall\, room 330\, Round Rock\, TX\, 78665
CATEGORIES:San Marcos 2017
END:VEVENT
BEGIN:VEVENT
DTSTART;VALUE=DATE:20200620
DTEND;VALUE=DATE:20200622
DTSTAMP:20260419T151353
CREATED:20190708T153207Z
LAST-MODIFIED:20200602T183753Z
UID:12152-1592611200-1592783999@mtitx.com
SUMMARY:Tissue Specific Exercise/Mid Term Written Exam
DESCRIPTION:Instructors: Kroon/Kruchowsky
URL:https://mtitx.com/event/tissue-specific-exercise-mid-term-written-exam/
LOCATION:Rosalind Franklin University of Medicine and Science\, Department of Physical Therapy\, 3333 Green Bay Road\, North Chicago\, IL\, 60064\, United States
CATEGORIES:Chicago 2019
GEO:42.3001389;-87.8593878
X-APPLE-STRUCTURED-LOCATION;VALUE=URI;X-ADDRESS=Rosalind Franklin University of Medicine and Science Department of Physical Therapy 3333 Green Bay Road North Chicago IL 60064 United States;X-APPLE-RADIUS=500;X-TITLE=3333 Green Bay Road:geo:-87.8593878,42.3001389
END:VEVENT
BEGIN:VEVENT
DTSTART;VALUE=DATE:20200627
DTEND;VALUE=DATE:20200629
DTSTAMP:20260419T151353
CREATED:20190707T232947Z
LAST-MODIFIED:20190707T232947Z
UID:12125-1593216000-1593388799@mtitx.com
SUMMARY:Intro Lumbar Spine II
DESCRIPTION:Instructors: Kroon/Kruchowsky
URL:https://mtitx.com/event/intro-lumbar-spine-ii-14/
LOCATION:Texas State University\, Department of Physical Therapy\, Round Rock Campus\, 200 Bobcat Way\, Willow Hall\, room 330\, Round Rock\, TX\, 78665
CATEGORIES:Round Rock 2020
END:VEVENT
END:VCALENDAR